BEGIN:VCALENDAR
VERSION:2.0
PRODID:-//Diocese of Bridgeport Catholic Schools - ECPv6.7.0//NONSGML v1.0//EN
CALSCALE:GREGORIAN
METHOD:PUBLISH
X-WR-CALNAME:Diocese of Bridgeport Catholic Schools
X-ORIGINAL-URL:https://www.dioceseofbridgeportcatholicschools.com
X-WR-CALDESC:Events for Diocese of Bridgeport Catholic Schools
REFRESH-INTERVAL;VALUE=DURATION:PT1H
X-Robots-Tag:noindex
X-PUBLISHED-TTL:PT1H
BEGIN:VTIMEZONE
TZID:America/New_York
BEGIN:DAYLIGHT
TZOFFSETFROM:-0500
TZOFFSETTO:-0400
TZNAME:EDT
DTSTART:20260308T070000
END:DAYLIGHT
BEGIN:STANDARD
TZOFFSETFROM:-0400
TZOFFSETTO:-0500
TZNAME:EST
DTSTART:20261101T060000
END:STANDARD
END:VTIMEZONE
BEGIN:VEVENT
DTSTART;VALUE=DATE:20260507
DTEND;VALUE=DATE:20260508
DTSTAMP:20260419T091314
CREATED:20251218T163850Z
LAST-MODIFIED:20251218T163850Z
UID:4960-1778112000-1778198399@www.dioceseofbridgeportcatholicschools.com
SUMMARY:Breakfast of Champions | Principal Meeting
DESCRIPTION:
URL:https://www.dioceseofbridgeportcatholicschools.com/calendar-item/breakfast-of-champions-principal-meeting/
LOCATION:McClinch Family Center/Trumbull\, 220 Shelton Road\, Trumbull\, CT\, United States
END:VEVENT
END:VCALENDAR